BEGIN:VCALENDAR
VERSION:2.0
PRODID:-//ChamberMaster//Event Calendar 2.0//EN
METHOD:PUBLISH
X-PUBLISHED-TTL:P1H
REFRESH-INTERVAL:P1H
CALSCALE:GREGORIAN
BEGIN:VTIMEZONE
TZID:America/Denver
BEGIN:DAYLIGHT
RRULE:FREQ=YEARLY;BYMONTH=3;BYDAY=2SU
DTSTART:20070101T000000
TZOFFSETFROM:-0700
TZOFFSETTO:-0600
TZNAME:Mountain Daylight Time
END:DAYLIGHT
BEGIN:STANDARD
RRULE:FREQ=YEARLY;BYMONTH=11;BYDAY=1SU
DTSTART:20070101T000000
TZOFFSETFROM:-0600
TZOFFSETTO:-0700
TZNAME:Mountain Standard Time
END:STANDARD
END:VTIMEZONE
BEGIN:VEVENT
DTSTART;TZID=America/Denver:20260423T173000
DTEND;TZID=America/Denver:20260423T201500
X-MICROSOFT-CDO-ALLDAYEVENT:FALSE
SUMMARY:Boise Girls Academy Bonanza Fundraiser
DESCRIPTION:Join us at our premier fundraising event to help support the work of Boise Girls Academy Adult & Teen Challenge and celebrate new life for at-risk teenage girls. There will be delicious BBQ dinner\, live bluegrass band\, dessert dash\, and a large curated silent auction\, along with a live auction! You'll hear powerful testimony from students and parents about the transformative work in our program. Please come support us to help more girls and keep hope within reach until all live free!
X-ALT-DESC;FMTTYPE=text/html:<!DOCTYPE html><html><head><title></title></head><body aria-disabled="false"><p>Join us at our premier fundraising event to help support the work of Boise Girls Academy Adult &amp\; Teen Challenge and celebrate new life for at-risk teenage girls. There will be delicious BBQ dinner\, live bluegrass band\, dessert dash\, and a large curated silent auction\, along with a live auction! You&#39\;ll hear powerful testimony from students and parents about the transformative work in our program. Please come support us to help more girls and keep hope within reach until all live free!</p></body></html>
LOCATION:10255 Locust Ln. Nampa ID 83686
UID:e.1421.1440578
SEQUENCE:3
DTSTAMP:20260419T121408Z
URL:https://members.nampa.com/events-calendar/Details/boise-girls-academy-bonanza-fundraiser-1705724?sourceTypeId=Hub
END:VEVENT
END:VCALENDAR
