BEGIN:VCALENDAR
VERSION:2.0
PRODID:-//ChamberMaster//Event Calendar 2.0//EN
METHOD:PUBLISH
X-PUBLISHED-TTL:P1H
REFRESH-INTERVAL:P1H
CALSCALE:GREGORIAN
BEGIN:VTIMEZONE
TZID:America/Denver
BEGIN:DAYLIGHT
RRULE:FREQ=YEARLY;BYMONTH=3;BYDAY=2SU
DTSTART:20070101T000000
TZOFFSETFROM:-0700
TZOFFSETTO:-0600
TZNAME:Mountain Daylight Time
END:DAYLIGHT
BEGIN:STANDARD
RRULE:FREQ=YEARLY;BYMONTH=11;BYDAY=1SU
DTSTART:20070101T000000
TZOFFSETFROM:-0600
TZOFFSETTO:-0700
TZNAME:Mountain Standard Time
END:STANDARD
END:VTIMEZONE
BEGIN:VEVENT
DTSTART;TZID=America/Denver:20260421T140000
DTEND;TZID=America/Denver:20260421T160000
X-MICROSOFT-CDO-ALLDAYEVENT:FALSE
SUMMARY:First Interstate Community Open House
DESCRIPTION:At First Interstate Bank\, relationships are at the heart of everything we do. We meet people where they are\, helping them get to where they want to be. Today\, we're proud to announce a major milestone: $100 million in philanthropic giving! \nSince 1990\, First Interstate Bank and our Foundation have proudly invested in the communities we serve supporting nonprofits\, empowering volunteers\, and funding programs that create lasting impact. Please join us to celebrate this significant accomplishment.
X-ALT-DESC;FMTTYPE=text/html:<!DOCTYPE html><html><head><title></title></head><body aria-disabled="false"><p>At First Interstate Bank\, relationships are at the heart of everything we do. We meet people where they are\, helping them get to where they want to be. Today\, we&rsquo\;re proud to announce a major milestone: $100 million in philanthropic giving!&nbsp\;</p><p><br></p><p>Since 1990\, First Interstate Bank and our Foundation have proudly invested in the communities we serve&mdash\;supporting nonprofits\, empowering volunteers\, and funding programs that create lasting impact. Please join us to celebrate this significant accomplishment.</p></body></html>
LOCATION:804 12th Ave S Nampa ID 83651
UID:e.1421.1443452
SEQUENCE:3
DTSTAMP:20260419T122418Z
URL:https://members.nampa.com/events-calendar/Details/first-interstate-community-open-house-1709692?sourceTypeId=Hub
END:VEVENT
END:VCALENDAR
